BEGIN:VCALENDAR
VERSION:2.0
PRODID:www.example.com
BEGIN:VEVENT
UID:5a1d06b06747e
DTSTART;VALUE=DATE:20121224
SEQUENCE:0
TRANSP:OPAQUE
DTEND;VALUE=DATE:20121225
SUMMARY:Christmas
CLASS:PUBLIC
X-MICROSOFT-CDO-ALLDAYEVENT:TRUE
DTSTAMP:20171128T064816Z
END:VEVENT
END:VCALENDAR